BEGIN:VCALENDAR
VERSION:2.0
PRODID:-//TYPO3/NONSGML Calendarize//EN
BEGIN:VEVENT
UID:calendarize-fachtag-digitale-grenzverletzungen-ausbeutung-von-kindern-
 und-jugendlichen-erkennen-und-bekaempfen
DTSTAMP:20250731T101109Z
DTSTART:20250916T100000Z
DTEND:20250916T163000Z
SUMMARY:Fachtag: “Digitale Grenzverletzungen – Ausbeutung von Kindern 
 und Jugendlichen erkennen und bekämpfen”
DESCRIPTION:Die Zahl digitaler Ausbeutungsformen von Kindern und Jugendlic
 hen ist in den vergangenen Jahren kontinuierlich gestiegen. Um diese besor
 gniserregende Entwicklung aus verschiedenen Perspektiven zu beleuchten und
  gemeinsam mit Fachkräften aus Praxis\, Forschung und Politik in den Aust
 ausch zu treten\, laden ECPAT Deutschland\, Stiftung Digitale Chancen\, De
 utsches Kinderhilfswerk und Innocence in Danger zu einer gemeinsamen Fac
 hveranstaltung ein.
X-ALT-DESC;FMTTYPE=text/html:<p>Die Zahl digitaler Ausbeutungsformen von K
 indern und Jugendlichen ist in den vergangenen Jahren kontinuierlich gesti
 egen. Um diese besorgniserregende Entwicklung aus verschiedenen Perspektiv
 en zu beleuchten und gemeinsam mit Fachkräften aus Praxis\, Forschung und
  Politik in den Austausch zu treten\, laden <a href="https://ecpat.us14.li
 st-manage.com/track/click?u=da614cdfe6ceb8397b6eabd1f&amp\;id=48adcbfc95&a
 mp\;e=b861a70e0e"><u>ECPAT Deutschland</u></a>\, <a href="https://ecpat.us
 14.list-manage.com/track/click?u=da614cdfe6ceb8397b6eabd1f&amp\;id=77af465
 4d6&amp\;e=b861a70e0e"><u>Stiftung Digitale Chancen</u></a>\, <a href="htt
 ps://ecpat.us14.list-manage.com/track/click?u=da614cdfe6ceb8397b6eabd1f&am
 p\;id=d444105e32&amp\;e=b861a70e0e"><u>Deutsches Kinderhilfswerk</u></a>&n
 bsp\;und <a href="https://ecpat.us14.list-manage.com/track/click?u=da614cd
 fe6ceb8397b6eabd1f&amp\;id=52dde9f54b&amp\;e=b861a70e0e"><u>Innocence in D
 anger</u></a>&nbsp\;zu einer gemeinsamen Fachveranstaltung ein.</p>
LOCATION:Hörsaalruine\, Charitéplatz 1\, 10117 Berlin
END:VEVENT
END:VCALENDAR
